BEGIN:VCALENDAR
VERSION:2.0
PRODID:-//Tukios.com/
BEGIN:VEVENT
UID:d3a3ac8d-55a8-4fde-acde-3a9dbb3c2b05@www.pedersenfh.com
DTSTAMP:20260421T221308Z
DTSTART:20260627T160000Z
DTEND:20260627T170000Z
SUMMARY:Celebration of Life
DESCRIPTION:
URL:https://www.pedersenfh.com/obituaries/kevin-flicker
LOCATION:Pedersen Funeral Home 101 S Atlantic Ave  Morris MN 56267
GEO:45.5815547;-95.9092257
END:VEVENT
END:VCALENDAR