BEGIN:VCALENDAR
VERSION:2.0
PRODID:-//Tukios.com/
BEGIN:VEVENT
UID:f21a6c24-8366-481e-96fa-194c9c88b818@www.pedersenfh.com
DTSTAMP:20260421T220913Z
DTSTART:20260627T150000Z
DTEND:20260627T160000Z
SUMMARY:Visitation
DESCRIPTION:
URL:https://www.pedersenfh.com/obituaries/kevin-flicker
LOCATION:Pedersen Funeral Home 101 S Atlantic Ave  Morris MN 56267
GEO:45.5815547;-95.9092257
END:VEVENT
END:VCALENDAR